BEGIN:VCALENDAR
VERSION:2.0
PRODID:-//Plone.org//NONSGML plone.app.event//EN
X-WR-TIMEZONE:Europe/Madrid
BEGIN:VEVENT
SUMMARY:Esdeveniment de mostra
DTSTART;TZID=Europe/Madrid:20200107T120000
DTEND;TZID=Europe/Madrid:20201102T120000
DTSTAMP:20260420T115258Z
UID:f797b2f90e6e45a087e7ceebc4ff96dd@genwebv4.upc.edu
CONTACT:Responsable esdeveniment\, adreca@noreply.com
CREATED:20200107T115738Z
LAST-MODIFIED:20200107T125318Z
LOCATION:Lloc de l'esdeveniment
URL:https://lam.upc.edu/ca/esdeveniments/copy_of_esdeveniment-de-mostra
END:VEVENT
BEGIN:VTIMEZONE
TZID:Europe/Madrid
X-LIC-LOCATION:Europe/Madrid
BEGIN:STANDARD
DTSTART:20191027T020000
TZNAME:CET
TZOFFSETFROM:+0200
TZOFFSETTO:+0100
END:STANDARD
BEGIN:STANDARD
DTSTART:20201025T020000
TZNAME:CET
TZOFFSETFROM:+0200
TZOFFSETTO:+0100
END:STANDARD
END:VTIMEZONE
END:VCALENDAR
